{
 "currentVersion": 11.3,
 "serviceDescription": "FBC/FBC_FlatheadCounty_SepticAgeDensity",
 "name": "FBC/FBC_FlatheadCounty_SepticAgeDensity",
 "description": "",
 "extent": {
  "xmin": 189315.82296875055,
  "ymin": 378116.3776562494,
  "xmax": 347953.47000000195,
  "ymax": 540678.0501368908,
  "spatialReference": {
   "wkid": 102300,
   "latestWkid": 2818
  }
 },
 "initialExtent": {
  "xmin": 189315.82296875055,
  "ymin": 378116.3776562494,
  "xmax": 347953.47000000195,
  "ymax": 540678.0501368908,
  "spatialReference": {
   "wkid": 102300,
   "latestWkid": 2818
  }
 },
 "fullExtent": {
  "xmin": 189315.82296875055,
  "ymin": 378116.3776562494,
  "xmax": 347953.47000000195,
  "ymax": 540678.0501368908,
  "spatialReference": {
   "wkid": 102300,
   "latestWkid": 2818
  }
 },
 "sortableFields": "",
 "bandCount": 1,
 "pixelType": "U8",
 "minValues": [
  1
 ],
 "maxValues": [
  5
 ],
 "meanValues": [
  1.3038959613368217
 ],
 "stdvValues": [
  0.7510203082202652
 ],
 "hasMultidimensions": false,
 "pixelSizeX": 8.918239657704712,
 "pixelSizeY": 8.91823965770471,
 "meanPixelSize": 8.91823965770471,
 "datasetFormat": "SDR",
 "uncompressedSize": 324239664,
 "blockWidth": 128,
 "blockHeight": 128,
 "compressionType": "LZ77",
 "bandNames": [
  "Band_1"
 ],
 "allowCopy": true,
 "allowAnalysis": true,
 "itemAccess": false,
 "inspectionCapabilities": "",
 "minPixelSize": 0,
 "maxPixelSize": 0,
 "copyrightText": "",
 "serviceDataType": "esriImageServiceDataTypeGeneric",
 "serviceSourceType": "esriImageServiceSourceTypeDataset",
 "objectIdField": "",
 "fields": [],
 "capabilities": "Image,Metadata,Mensuration",
 "defaultMosaicMethod": "Center",
 "allowedMosaicMethods": "",
 "sortField": "",
 "sortValue": null,
 "sortAscending": true,
 "mosaicOperator": "First",
 "defaultCompressionQuality": 75,
 "defaultResamplingMethod": "Bilinear",
 "maxImageHeight": 4100,
 "maxImageWidth": 15000,
 "allowRasterFunction": true,
 "rasterFunctionInfos": [
  {
   "name": "None",
   "description": "",
   "help": ""
  }
 ],
 "rasterTypeInfos": [
  {
   "name": "Raster Dataset",
   "description": "Supports all ArcGIS Raster Datasets",
   "help": ""
  }
 ],
 "mensurationCapabilities": "Basic",
 "hasHistograms": true,
 "hasColormap": false,
 "hasRasterAttributeTable": true,
 "minScale": 0,
 "maxScale": 0,
 "exportTilesAllowed": false,
 "supportsStatistics": false,
 "supportsAdvancedQueries": false,
 "editFieldsInfo": null,
 "ownershipBasedAccessControlForRasters": null,
 "allowComputeTiePoints": false,
 "useStandardizedQueries": true,
 "advancedQueryCapabilities": {
  "useStandardizedQueries": true,
  "supportsStatistics": false,
  "supportsOrderBy": false,
  "supportsDistinct": false,
  "supportsPagination": false
 },
 "spatialReference": {
  "wkid": 102300,
  "latestWkid": 2818
 }
}
