{
 "currentVersion": 11.3,
 "serviceDescription": "UAV/TLMD_20230802_SacoButteCulturalDEM",
 "name": "UAV/TLMD_20230802_SacoButteCulturalDEM",
 "description": "",
 "extent": {
  "xmin": 337632.5409747629,
  "ymin": 5377045.966138891,
  "xmax": 338653.84097476286,
  "ymax": 5377723.496138891,
  "spatialReference": {
   "wkid": 32613,
   "latestWkid": 32613
  }
 },
 "initialExtent": {
  "xmin": 337632.5409747629,
  "ymin": 5377045.966138891,
  "xmax": 338653.84097476286,
  "ymax": 5377723.496138891,
  "spatialReference": {
   "wkid": 32613,
   "latestWkid": 32613
  }
 },
 "fullExtent": {
  "xmin": 337632.5409747629,
  "ymin": 5377045.966138891,
  "xmax": 338653.84097476286,
  "ymax": 5377723.496138891,
  "spatialReference": {
   "wkid": 32613,
   "latestWkid": 32613
  }
 },
 "sortableFields": "",
 "bandCount": 1,
 "pixelType": "F32",
 "minValues": [
  651.5078125
 ],
 "maxValues": [
  698.108642578125
 ],
 "meanValues": [
  679.6351622479951
 ],
 "stdvValues": [
  11.229705878114558
 ],
 "hasMultidimensions": false,
 "pixelSizeX": 0.0699999999999992,
 "pixelSizeY": 0.07000000000002694,
 "meanPixelSize": 0.07000000000001308,
 "datasetFormat": "SDR",
 "uncompressedSize": 564866440,
 "blockWidth": 128,
 "blockHeight": 128,
 "compressionType": "LZ77",
 "bandNames": [
  "Band_1"
 ],
 "allowCopy": true,
 "allowAnalysis": true,
 "itemAccess": false,
 "inspectionCapabilities": "",
 "minPixelSize": 0,
 "maxPixelSize": 0,
 "copyrightText": "",
 "serviceDataType": "esriImageServiceDataTypeGeneric",
 "serviceSourceType": "esriImageServiceSourceTypeDataset",
 "objectIdField": "",
 "fields": [],
 "capabilities": "Image,Metadata,Mensuration",
 "defaultMosaicMethod": "Center",
 "allowedMosaicMethods": "",
 "sortField": "",
 "sortValue": null,
 "sortAscending": true,
 "mosaicOperator": "First",
 "defaultCompressionQuality": 75,
 "defaultResamplingMethod": "Bilinear",
 "maxImageHeight": 4100,
 "maxImageWidth": 15000,
 "allowRasterFunction": true,
 "rasterFunctionInfos": [
  {
   "name": "None",
   "description": "",
   "help": ""
  }
 ],
 "rasterTypeInfos": [
  {
   "name": "Raster Dataset",
   "description": "Supports all ArcGIS Raster Datasets",
   "help": ""
  }
 ],
 "mensurationCapabilities": "Basic",
 "hasHistograms": true,
 "hasColormap": false,
 "hasRasterAttributeTable": false,
 "minScale": 0,
 "maxScale": 0,
 "exportTilesAllowed": false,
 "supportsStatistics": false,
 "supportsAdvancedQueries": false,
 "editFieldsInfo": null,
 "ownershipBasedAccessControlForRasters": null,
 "allowComputeTiePoints": false,
 "useStandardizedQueries": true,
 "advancedQueryCapabilities": {
  "useStandardizedQueries": true,
  "supportsStatistics": false,
  "supportsOrderBy": false,
  "supportsDistinct": false,
  "supportsPagination": false
 },
 "spatialReference": {
  "wkid": 32613,
  "latestWkid": 32613
 }
}
