{
 "currentVersion": 11.3,
 "serviceDescription": "UAV/TLMD_20230802_SacoButteCulturalOrtho",
 "name": "UAV/TLMD_20230802_SacoButteCulturalOrtho",
 "description": "",
 "extent": {
  "xmin": 337629.29395,
  "ymin": 5377037.678750001,
  "xmax": 338659.99657,
  "ymax": 5377724.852150001,
  "spatialReference": {
   "wkid": 32613,
   "latestWkid": 32613
  }
 },
 "initialExtent": {
  "xmin": 337629.29395,
  "ymin": 5377037.678750001,
  "xmax": 338659.99657,
  "ymax": 5377724.852150001,
  "spatialReference": {
   "wkid": 32613,
   "latestWkid": 32613
  }
 },
 "fullExtent": {
  "xmin": 337629.29395,
  "ymin": 5377037.678750001,
  "xmax": 338659.99657,
  "ymax": 5377724.852150001,
  "spatialReference": {
   "wkid": 32613,
   "latestWkid": 32613
  }
 },
 "sortableFields": "",
 "bandCount": 4,
 "pixelType": "U8",
 "minValues": [
  0,
  0,
  0,
  0
 ],
 "maxValues": [
  255,
  255,
  255,
  255
 ],
 "meanValues": [
  116.45447650920921,
  114.22924573035638,
  110.61489471844537,
  135.59358128795193
 ],
 "stdvValues": [
  58.69535259409276,
  57.502793266541595,
  56.22135209708938,
  81.13579266839396
 ],
 "hasMultidimensions": false,
 "pixelSizeX": 0.028739999999999898,
 "pixelSizeY": 0.02873999999998903,
 "meanPixelSize": 0.028739999999994464,
 "datasetFormat": "SDR",
 "uncompressedSize": 3429937320,
 "blockWidth": 128,
 "blockHeight": 128,
 "compressionType": "LZ77",
 "bandNames": [
  "Band_1",
  "Band_2",
  "Band_3",
  "Band_4"
 ],
 "allowCopy": true,
 "allowAnalysis": true,
 "itemAccess": false,
 "inspectionCapabilities": "",
 "minPixelSize": 0,
 "maxPixelSize": 0,
 "copyrightText": "",
 "serviceDataType": "esriImageServiceDataTypeGeneric",
 "serviceSourceType": "esriImageServiceSourceTypeDataset",
 "objectIdField": "",
 "fields": [],
 "capabilities": "Image,Metadata,Mensuration",
 "defaultMosaicMethod": "Center",
 "allowedMosaicMethods": "",
 "sortField": "",
 "sortValue": null,
 "sortAscending": true,
 "mosaicOperator": "First",
 "defaultCompressionQuality": 75,
 "defaultResamplingMethod": "Bilinear",
 "maxImageHeight": 4100,
 "maxImageWidth": 15000,
 "allowRasterFunction": true,
 "rasterFunctionInfos": [
  {
   "name": "None",
   "description": "",
   "help": ""
  }
 ],
 "rasterTypeInfos": [
  {
   "name": "Raster Dataset",
   "description": "Supports all ArcGIS Raster Datasets",
   "help": ""
  }
 ],
 "mensurationCapabilities": "Basic",
 "hasHistograms": true,
 "hasColormap": false,
 "hasRasterAttributeTable": false,
 "minScale": 0,
 "maxScale": 0,
 "exportTilesAllowed": false,
 "supportsStatistics": false,
 "supportsAdvancedQueries": false,
 "editFieldsInfo": null,
 "ownershipBasedAccessControlForRasters": null,
 "allowComputeTiePoints": false,
 "useStandardizedQueries": true,
 "advancedQueryCapabilities": {
  "useStandardizedQueries": true,
  "supportsStatistics": false,
  "supportsOrderBy": false,
  "supportsDistinct": false,
  "supportsPagination": false
 },
 "spatialReference": {
  "wkid": 32613,
  "latestWkid": 32613
 }
}
