{
 "currentVersion": 11.3,
 "serviceDescription": "UAV/TLMD_20230822_AvonChertOrtho",
 "name": "UAV/TLMD_20230822_AvonChertOrtho",
 "description": "",
 "extent": {
  "xmin": 366586.61582,
  "ymin": 5164593.53321,
  "xmax": 366900.77972,
  "ymax": 5164942.34891,
  "spatialReference": {
   "wkid": 32612,
   "latestWkid": 32612
  }
 },
 "initialExtent": {
  "xmin": 366586.61582,
  "ymin": 5164593.53321,
  "xmax": 366900.77972,
  "ymax": 5164942.34891,
  "spatialReference": {
   "wkid": 32612,
   "latestWkid": 32612
  }
 },
 "fullExtent": {
  "xmin": 366586.61582,
  "ymin": 5164593.53321,
  "xmax": 366900.77972,
  "ymax": 5164942.34891,
  "spatialReference": {
   "wkid": 32612,
   "latestWkid": 32612
  }
 },
 "sortableFields": "",
 "bandCount": 4,
 "pixelType": "U8",
 "minValues": [
  0,
  0,
  0,
  0
 ],
 "maxValues": [
  255,
  255,
  255,
  255
 ],
 "meanValues": [
  106.93079204992975,
  104.57595004390794,
  100.75120288278048,
  126.73706535408049
 ],
 "stdvValues": [
  62.11899713494238,
  60.61906895836395,
  59.413318263314935,
  85.13260735503887
 ],
 "hasMultidimensions": false,
 "pixelSizeX": 0.02069999999999901,
 "pixelSizeY": 0.02070000000000902,
 "meanPixelSize": 0.020700000000004014,
 "datasetFormat": "SDR",
 "uncompressedSize": 1022990508,
 "blockWidth": 128,
 "blockHeight": 128,
 "compressionType": "LZ77",
 "bandNames": [
  "Band_1",
  "Band_2",
  "Band_3",
  "Band_4"
 ],
 "allowCopy": true,
 "allowAnalysis": true,
 "itemAccess": false,
 "inspectionCapabilities": "",
 "minPixelSize": 0,
 "maxPixelSize": 0,
 "copyrightText": "",
 "serviceDataType": "esriImageServiceDataTypeGeneric",
 "serviceSourceType": "esriImageServiceSourceTypeDataset",
 "objectIdField": "",
 "fields": [],
 "capabilities": "Image,Metadata,Mensuration",
 "defaultMosaicMethod": "Center",
 "allowedMosaicMethods": "",
 "sortField": "",
 "sortValue": null,
 "sortAscending": true,
 "mosaicOperator": "First",
 "defaultCompressionQuality": 75,
 "defaultResamplingMethod": "Bilinear",
 "maxImageHeight": 4100,
 "maxImageWidth": 15000,
 "allowRasterFunction": true,
 "rasterFunctionInfos": [
  {
   "name": "None",
   "description": "",
   "help": ""
  }
 ],
 "rasterTypeInfos": [
  {
   "name": "Raster Dataset",
   "description": "Supports all ArcGIS Raster Datasets",
   "help": ""
  }
 ],
 "mensurationCapabilities": "Basic",
 "hasHistograms": true,
 "hasColormap": false,
 "hasRasterAttributeTable": false,
 "minScale": 0,
 "maxScale": 0,
 "exportTilesAllowed": false,
 "supportsStatistics": false,
 "supportsAdvancedQueries": false,
 "editFieldsInfo": null,
 "ownershipBasedAccessControlForRasters": null,
 "allowComputeTiePoints": false,
 "useStandardizedQueries": true,
 "advancedQueryCapabilities": {
  "useStandardizedQueries": true,
  "supportsStatistics": false,
  "supportsOrderBy": false,
  "supportsDistinct": false,
  "supportsPagination": false
 },
 "spatialReference": {
  "wkid": 32612,
  "latestWkid": 32612
 }
}
