{
 "currentVersion": 11.3,
 "serviceDescription": "UAV/TLMD_20231116_LoganChertQuarryDEM",
 "name": "UAV/TLMD_20231116_LoganChertQuarryDEM",
 "description": "",
 "extent": {
  "xmin": 466589.0211700567,
  "ymin": 5080841.594510742,
  "xmax": 467605.17117005674,
  "ymax": 5081532.044510743,
  "spatialReference": {
   "wkid": 32612,
   "latestWkid": 32612
  }
 },
 "initialExtent": {
  "xmin": 466589.0211700567,
  "ymin": 5080841.594510742,
  "xmax": 467605.17117005674,
  "ymax": 5081532.044510743,
  "spatialReference": {
   "wkid": 32612,
   "latestWkid": 32612
  }
 },
 "fullExtent": {
  "xmin": 466589.0211700567,
  "ymin": 5080841.594510742,
  "xmax": 467605.17117005674,
  "ymax": 5081532.044510743,
  "spatialReference": {
   "wkid": 32612,
   "latestWkid": 32612
  }
 },
 "sortableFields": "",
 "bandCount": 1,
 "pixelType": "F32",
 "minValues": [
  1238.002197265625
 ],
 "maxValues": [
  1297.0858154296875
 ],
 "meanValues": [
  1271.0207750804097
 ],
 "stdvValues": [
  16.912290965327543
 ],
 "hasMultidimensions": false,
 "pixelSizeX": 0.05000000000000115,
 "pixelSizeY": 0.05000000000001349,
 "meanPixelSize": 0.050000000000007316,
 "datasetFormat": "SDR",
 "uncompressedSize": 1122479936,
 "blockWidth": 128,
 "blockHeight": 128,
 "compressionType": "LZ77",
 "bandNames": [
  "Band_1"
 ],
 "allowCopy": true,
 "allowAnalysis": true,
 "itemAccess": false,
 "inspectionCapabilities": "",
 "minPixelSize": 0,
 "maxPixelSize": 0,
 "copyrightText": "",
 "serviceDataType": "esriImageServiceDataTypeGeneric",
 "serviceSourceType": "esriImageServiceSourceTypeDataset",
 "objectIdField": "",
 "fields": [],
 "capabilities": "Image,Metadata,Mensuration",
 "defaultMosaicMethod": "Center",
 "allowedMosaicMethods": "",
 "sortField": "",
 "sortValue": null,
 "sortAscending": true,
 "mosaicOperator": "First",
 "defaultCompressionQuality": 75,
 "defaultResamplingMethod": "Bilinear",
 "maxImageHeight": 4100,
 "maxImageWidth": 15000,
 "allowRasterFunction": true,
 "rasterFunctionInfos": [
  {
   "name": "None",
   "description": "",
   "help": ""
  }
 ],
 "rasterTypeInfos": [
  {
   "name": "Raster Dataset",
   "description": "Supports all ArcGIS Raster Datasets",
   "help": ""
  }
 ],
 "mensurationCapabilities": "Basic",
 "hasHistograms": true,
 "hasColormap": false,
 "hasRasterAttributeTable": false,
 "minScale": 0,
 "maxScale": 0,
 "exportTilesAllowed": false,
 "supportsStatistics": false,
 "supportsAdvancedQueries": false,
 "editFieldsInfo": null,
 "ownershipBasedAccessControlForRasters": null,
 "allowComputeTiePoints": false,
 "useStandardizedQueries": true,
 "advancedQueryCapabilities": {
  "useStandardizedQueries": true,
  "supportsStatistics": false,
  "supportsOrderBy": false,
  "supportsDistinct": false,
  "supportsPagination": false
 },
 "spatialReference": {
  "wkid": 32612,
  "latestWkid": 32612
 }
}
