{
 "currentVersion": 11.3,
 "serviceDescription": "UAV/TLMD_MaginnisCemeteryGround",
 "name": "UAV/TLMD_MaginnisCemeteryGround",
 "description": "",
 "extent": {
  "xmin": 640180.6960697668,
  "ymin": 5227514.256129362,
  "xmax": 640494.9460697668,
  "ymax": 5227899.3061293615,
  "spatialReference": {
   "wkid": 32612,
   "latestWkid": 32612
  }
 },
 "initialExtent": {
  "xmin": 640180.6960697668,
  "ymin": 5227514.256129362,
  "xmax": 640494.9460697668,
  "ymax": 5227899.3061293615,
  "spatialReference": {
   "wkid": 32612,
   "latestWkid": 32612
  }
 },
 "fullExtent": {
  "xmin": 640180.6960697668,
  "ymin": 5227514.256129362,
  "xmax": 640494.9460697668,
  "ymax": 5227899.3061293615,
  "spatialReference": {
   "wkid": 32612,
   "latestWkid": 32612
  }
 },
 "sortableFields": "",
 "bandCount": 1,
 "pixelType": "F32",
 "minValues": [
  1326.114501953125
 ],
 "maxValues": [
  1343.4873046875
 ],
 "meanValues": [
  1336.0366224980066
 ],
 "stdvValues": [
  4.453044525691621
 ],
 "hasMultidimensions": false,
 "pixelSizeX": 0.15,
 "pixelSizeY": 0.14999999999992744,
 "meanPixelSize": 0.14999999999996372,
 "datasetFormat": "SDR",
 "uncompressedSize": 21511460,
 "blockWidth": 128,
 "blockHeight": 128,
 "compressionType": "NONE",
 "bandNames": [
  "Band_1"
 ],
 "allowCopy": true,
 "allowAnalysis": true,
 "itemAccess": false,
 "inspectionCapabilities": "",
 "minPixelSize": 0,
 "maxPixelSize": 0,
 "copyrightText": "",
 "serviceDataType": "esriImageServiceDataTypeGeneric",
 "serviceSourceType": "esriImageServiceSourceTypeDataset",
 "objectIdField": "",
 "fields": [],
 "capabilities": "Image,Metadata,Mensuration",
 "defaultMosaicMethod": "Center",
 "allowedMosaicMethods": "",
 "sortField": "",
 "sortValue": null,
 "sortAscending": true,
 "mosaicOperator": "First",
 "defaultCompressionQuality": 75,
 "defaultResamplingMethod": "Bilinear",
 "maxImageHeight": 4100,
 "maxImageWidth": 15000,
 "allowRasterFunction": true,
 "rasterFunctionInfos": [
  {
   "name": "None",
   "description": "",
   "help": ""
  }
 ],
 "rasterTypeInfos": [
  {
   "name": "Raster Dataset",
   "description": "Supports all ArcGIS Raster Datasets",
   "help": ""
  }
 ],
 "mensurationCapabilities": "Basic",
 "hasHistograms": true,
 "hasColormap": false,
 "hasRasterAttributeTable": false,
 "minScale": 0,
 "maxScale": 0,
 "exportTilesAllowed": false,
 "supportsStatistics": false,
 "supportsAdvancedQueries": false,
 "editFieldsInfo": null,
 "ownershipBasedAccessControlForRasters": null,
 "allowComputeTiePoints": false,
 "useStandardizedQueries": true,
 "advancedQueryCapabilities": {
  "useStandardizedQueries": true,
  "supportsStatistics": false,
  "supportsOrderBy": false,
  "supportsDistinct": false,
  "supportsPagination": false
 },
 "spatialReference": {
  "wkid": 32612,
  "latestWkid": 32612
 }
}
