{
 "currentVersion": 11.3,
 "serviceDescription": "UAV/TLMD_MaginnisFortGround",
 "name": "UAV/TLMD_MaginnisFortGround",
 "description": "",
 "extent": {
  "xmin": 640845.0748223203,
  "ymin": 5226608.221244724,
  "xmax": 641915.2348223203,
  "ymax": 5227739.841244724,
  "spatialReference": {
   "wkid": 32612,
   "latestWkid": 32612
  }
 },
 "initialExtent": {
  "xmin": 640845.0748223203,
  "ymin": 5226608.221244724,
  "xmax": 641915.2348223203,
  "ymax": 5227739.841244724,
  "spatialReference": {
   "wkid": 32612,
   "latestWkid": 32612
  }
 },
 "fullExtent": {
  "xmin": 640845.0748223203,
  "ymin": 5226608.221244724,
  "xmax": 641915.2348223203,
  "ymax": 5227739.841244724,
  "spatialReference": {
   "wkid": 32612,
   "latestWkid": 32612
  }
 },
 "sortableFields": "",
 "bandCount": 1,
 "pixelType": "F32",
 "minValues": [
  1276.46923828125
 ],
 "maxValues": [
  1318.924560546875
 ],
 "meanValues": [
  1298.556008269031
 ],
 "stdvValues": [
  8.92098184679974
 ],
 "hasMultidimensions": false,
 "pixelSizeX": 0.14000000000000426,
 "pixelSizeY": 0.14000000000001384,
 "meanPixelSize": 0.14000000000000906,
 "datasetFormat": "SDR",
 "uncompressedSize": 247115232,
 "blockWidth": 128,
 "blockHeight": 128,
 "compressionType": "NONE",
 "bandNames": [
  "Band_1"
 ],
 "allowCopy": true,
 "allowAnalysis": true,
 "itemAccess": false,
 "inspectionCapabilities": "",
 "minPixelSize": 0,
 "maxPixelSize": 0,
 "copyrightText": "",
 "serviceDataType": "esriImageServiceDataTypeGeneric",
 "serviceSourceType": "esriImageServiceSourceTypeDataset",
 "objectIdField": "",
 "fields": [],
 "capabilities": "Image,Metadata,Mensuration",
 "defaultMosaicMethod": "Center",
 "allowedMosaicMethods": "",
 "sortField": "",
 "sortValue": null,
 "sortAscending": true,
 "mosaicOperator": "First",
 "defaultCompressionQuality": 75,
 "defaultResamplingMethod": "Bilinear",
 "maxImageHeight": 4100,
 "maxImageWidth": 15000,
 "allowRasterFunction": true,
 "rasterFunctionInfos": [
  {
   "name": "None",
   "description": "",
   "help": ""
  }
 ],
 "rasterTypeInfos": [
  {
   "name": "Raster Dataset",
   "description": "Supports all ArcGIS Raster Datasets",
   "help": ""
  }
 ],
 "mensurationCapabilities": "Basic",
 "hasHistograms": true,
 "hasColormap": false,
 "hasRasterAttributeTable": false,
 "minScale": 0,
 "maxScale": 0,
 "exportTilesAllowed": false,
 "supportsStatistics": false,
 "supportsAdvancedQueries": false,
 "editFieldsInfo": null,
 "ownershipBasedAccessControlForRasters": null,
 "allowComputeTiePoints": false,
 "useStandardizedQueries": true,
 "advancedQueryCapabilities": {
  "useStandardizedQueries": true,
  "supportsStatistics": false,
  "supportsOrderBy": false,
  "supportsDistinct": false,
  "supportsPagination": false
 },
 "spatialReference": {
  "wkid": 32612,
  "latestWkid": 32612
 }
}
