{
 "currentVersion": 11.3,
 "serviceDescription": "WRD/WOB_CarbonUnifiedDepthGrid",
 "name": "WRD/WOB_CarbonUnifiedDepthGrid",
 "description": "",
 "extent": {
  "xmin": 2014068.4504593164,
  "ymin": 273343.02985563874,
  "xmax": 2169405.4504593164,
  "ymax": 511489.02985563874,
  "spatialReference": {
   "wkid": 103094,
   "latestWkid": 6515
  }
 },
 "initialExtent": {
  "xmin": 2014068.4504593164,
  "ymin": 273343.02985563874,
  "xmax": 2169405.4504593164,
  "ymax": 511489.02985563874,
  "spatialReference": {
   "wkid": 103094,
   "latestWkid": 6515
  }
 },
 "fullExtent": {
  "xmin": 2014068.4504593164,
  "ymin": 273343.02985563874,
  "xmax": 2169405.4504593164,
  "ymax": 511489.02985563874,
  "spatialReference": {
   "wkid": 103094,
   "latestWkid": 6515
  }
 },
 "sortableFields": "",
 "bandCount": 1,
 "pixelType": "F32",
 "minValues": [
  0
 ],
 "maxValues": [
  19.998735427856445
 ],
 "meanValues": [
  1.9792477158801391
 ],
 "stdvValues": [
  2.071303153486625
 ],
 "hasMultidimensions": false,
 "pixelSizeX": 3,
 "pixelSizeY": 3,
 "meanPixelSize": 0.9144000000000001,
 "datasetFormat": "SDR",
 "uncompressedSize": 16441282312,
 "blockWidth": 128,
 "blockHeight": 128,
 "compressionType": "LZ77",
 "bandNames": [
  "Band_1"
 ],
 "allowCopy": true,
 "allowAnalysis": true,
 "itemAccess": false,
 "inspectionCapabilities": "",
 "minPixelSize": 0,
 "maxPixelSize": 0,
 "copyrightText": "",
 "serviceDataType": "esriImageServiceDataTypeGeneric",
 "serviceSourceType": "esriImageServiceSourceTypeDataset",
 "objectIdField": "",
 "fields": [],
 "capabilities": "Image,Metadata,Mensuration",
 "defaultMosaicMethod": "Center",
 "allowedMosaicMethods": "",
 "sortField": "",
 "sortValue": null,
 "sortAscending": true,
 "mosaicOperator": "First",
 "defaultCompressionQuality": 75,
 "defaultResamplingMethod": "Bilinear",
 "maxImageHeight": 4100,
 "maxImageWidth": 15000,
 "allowRasterFunction": true,
 "rasterFunctionInfos": [
  {
   "name": "None",
   "description": "",
   "help": ""
  }
 ],
 "rasterTypeInfos": [
  {
   "name": "Raster Dataset",
   "description": "Supports all ArcGIS Raster Datasets",
   "help": ""
  }
 ],
 "mensurationCapabilities": "Basic",
 "hasHistograms": true,
 "hasColormap": false,
 "hasRasterAttributeTable": false,
 "minScale": 0,
 "maxScale": 0,
 "exportTilesAllowed": false,
 "supportsStatistics": false,
 "supportsAdvancedQueries": false,
 "editFieldsInfo": null,
 "ownershipBasedAccessControlForRasters": null,
 "allowComputeTiePoints": false,
 "useStandardizedQueries": true,
 "advancedQueryCapabilities": {
  "useStandardizedQueries": true,
  "supportsStatistics": false,
  "supportsOrderBy": false,
  "supportsDistinct": false,
  "supportsPagination": false
 },
 "spatialReference": {
  "wkid": 103094,
  "latestWkid": 6515
 }
}
