{
 "currentVersion": 11.3,
 "serviceDescription": "WRD/WOB_DepthGrid100yrTetonCounty",
 "name": "WRD/WOB_DepthGrid100yrTetonCounty",
 "description": "",
 "extent": {
  "xmin": 1128390.7945169366,
  "ymin": 1178472.2907442155,
  "xmax": 1509336.3040729226,
  "ymax": 1387653.374106021,
  "spatialReference": {
   "wkid": 103094,
   "latestWkid": 6515
  }
 },
 "initialExtent": {
  "xmin": 1128390.7945169366,
  "ymin": 1178472.2907442155,
  "xmax": 1509336.3040729226,
  "ymax": 1387653.374106021,
  "spatialReference": {
   "wkid": 103094,
   "latestWkid": 6515
  }
 },
 "fullExtent": {
  "xmin": 1128390.7945169366,
  "ymin": 1178472.2907442155,
  "xmax": 1509336.3040729226,
  "ymax": 1387653.374106021,
  "spatialReference": {
   "wkid": 103094,
   "latestWkid": 6515
  }
 },
 "sortableFields": "",
 "bandCount": 1,
 "pixelType": "F32",
 "minValues": [
  9.765625E-4
 ],
 "maxValues": [
  180.02001953125
 ],
 "meanValues": [
  4.7378781087477355
 ],
 "stdvValues": [
  12.608741173080784
 ],
 "hasMultidimensions": false,
 "pixelSizeX": 0.9999908375031459,
 "pixelSizeY": 0.9999908375049856,
 "meanPixelSize": 0.30479720727123927,
 "datasetFormat": "SDR",
 "uncompressedSize": 318752218668,
 "blockWidth": 128,
 "blockHeight": 128,
 "compressionType": "NONE",
 "bandNames": [
  "Band_1"
 ],
 "allowCopy": true,
 "allowAnalysis": true,
 "itemAccess": false,
 "inspectionCapabilities": "",
 "minPixelSize": 0,
 "maxPixelSize": 0,
 "copyrightText": "",
 "serviceDataType": "esriImageServiceDataTypeGeneric",
 "serviceSourceType": "esriImageServiceSourceTypeDataset",
 "objectIdField": "",
 "fields": [],
 "capabilities": "Image,Metadata,Mensuration",
 "defaultMosaicMethod": "Center",
 "allowedMosaicMethods": "",
 "sortField": "",
 "sortValue": null,
 "sortAscending": true,
 "mosaicOperator": "First",
 "defaultCompressionQuality": 75,
 "defaultResamplingMethod": "Bilinear",
 "maxImageHeight": 4100,
 "maxImageWidth": 15000,
 "allowRasterFunction": true,
 "rasterFunctionInfos": [
  {
   "name": "None",
   "description": "",
   "help": ""
  }
 ],
 "rasterTypeInfos": [
  {
   "name": "Raster Dataset",
   "description": "Supports all ArcGIS Raster Datasets",
   "help": ""
  }
 ],
 "mensurationCapabilities": "Basic",
 "hasHistograms": true,
 "hasColormap": false,
 "hasRasterAttributeTable": false,
 "minScale": 0,
 "maxScale": 0,
 "exportTilesAllowed": false,
 "supportsStatistics": false,
 "supportsAdvancedQueries": false,
 "editFieldsInfo": null,
 "ownershipBasedAccessControlForRasters": null,
 "allowComputeTiePoints": false,
 "useStandardizedQueries": true,
 "advancedQueryCapabilities": {
  "useStandardizedQueries": true,
  "supportsStatistics": false,
  "supportsOrderBy": false,
  "supportsDistinct": false,
  "supportsPagination": false
 },
 "spatialReference": {
  "wkid": 103094,
  "latestWkid": 6515
 }
}
