{
 "currentVersion": 11.3,
 "serviceDescription": "WRD/WOB_MadisonJeffersonDepthGrids",
 "name": "WRD/WOB_MadisonJeffersonDepthGrids",
 "description": "",
 "extent": {
  "xmin": 1197098.3119912497,
  "ymin": 210207.1333809261,
  "xmax": 1480533.5011252295,
  "ymax": 627078.9759505523,
  "spatialReference": {
   "wkid": 102700,
   "latestWkid": 102700
  }
 },
 "initialExtent": {
  "xmin": 1197098.3119912497,
  "ymin": 210207.1333809261,
  "xmax": 1480533.5011252295,
  "ymax": 627078.9759505523,
  "spatialReference": {
   "wkid": 102700,
   "latestWkid": 102700
  }
 },
 "fullExtent": {
  "xmin": 1197098.3119912497,
  "ymin": 210207.1333809261,
  "xmax": 1480533.5011252295,
  "ymax": 627078.9759505523,
  "spatialReference": {
   "wkid": 102700,
   "latestWkid": 102700
  }
 },
 "sortableFields": "",
 "bandCount": 1,
 "pixelType": "F32",
 "minValues": [
  0
 ],
 "maxValues": [
  24.9462890625
 ],
 "meanValues": [
  2.35735862309185
 ],
 "stdvValues": [
  2.2480622710258773
 ],
 "hasMultidimensions": false,
 "pixelSizeX": 2.998711255239474,
 "pixelSizeY": 2.9987112552394755,
 "meanPixelSize": 0.9140090186150294,
 "datasetFormat": "SDR",
 "uncompressedSize": 52558991292,
 "blockWidth": 128,
 "blockHeight": 128,
 "compressionType": "LZ77",
 "bandNames": [
  "Band_1"
 ],
 "allowCopy": true,
 "allowAnalysis": true,
 "itemAccess": false,
 "inspectionCapabilities": "",
 "minPixelSize": 0,
 "maxPixelSize": 0,
 "copyrightText": "",
 "serviceDataType": "esriImageServiceDataTypeGeneric",
 "serviceSourceType": "esriImageServiceSourceTypeDataset",
 "objectIdField": "",
 "fields": [],
 "capabilities": "Image,Metadata,Mensuration",
 "defaultMosaicMethod": "Center",
 "allowedMosaicMethods": "",
 "sortField": "",
 "sortValue": null,
 "sortAscending": true,
 "mosaicOperator": "First",
 "defaultCompressionQuality": 75,
 "defaultResamplingMethod": "Bilinear",
 "maxImageHeight": 4100,
 "maxImageWidth": 15000,
 "allowRasterFunction": true,
 "rasterFunctionInfos": [
  {
   "name": "None",
   "description": "",
   "help": ""
  }
 ],
 "rasterTypeInfos": [
  {
   "name": "Raster Dataset",
   "description": "Supports all ArcGIS Raster Datasets",
   "help": ""
  }
 ],
 "mensurationCapabilities": "Basic",
 "hasHistograms": true,
 "hasColormap": false,
 "hasRasterAttributeTable": false,
 "minScale": 0,
 "maxScale": 0,
 "exportTilesAllowed": false,
 "supportsStatistics": false,
 "supportsAdvancedQueries": false,
 "editFieldsInfo": null,
 "ownershipBasedAccessControlForRasters": null,
 "allowComputeTiePoints": false,
 "useStandardizedQueries": true,
 "advancedQueryCapabilities": {
  "useStandardizedQueries": true,
  "supportsStatistics": false,
  "supportsOrderBy": false,
  "supportsDistinct": false,
  "supportsPagination": false
 },
 "spatialReference": {
  "wkid": 102700,
  "latestWkid": 102700
 }
}
