{
 "currentVersion": 11.3,
 "serviceDescription": "WRD/WOB_MissoulaGranite_DepthGrid",
 "name": "WRD/WOB_MissoulaGranite_DepthGrid",
 "description": "",
 "extent": {
  "xmin": 721695,
  "ymin": 739515,
  "xmax": 1080708,
  "ymax": 1052679,
  "spatialReference": {
   "wkid": 103094,
   "latestWkid": 6515
  }
 },
 "initialExtent": {
  "xmin": 721695,
  "ymin": 739515,
  "xmax": 1080708,
  "ymax": 1052679,
  "spatialReference": {
   "wkid": 103094,
   "latestWkid": 6515
  }
 },
 "fullExtent": {
  "xmin": 721695,
  "ymin": 739515,
  "xmax": 1080708,
  "ymax": 1052679,
  "spatialReference": {
   "wkid": 103094,
   "latestWkid": 6515
  }
 },
 "sortableFields": "",
 "bandCount": 1,
 "pixelType": "F32",
 "minValues": [
  0
 ],
 "maxValues": [
  25.24267578125
 ],
 "meanValues": [
  3.028264112804815
 ],
 "stdvValues": [
  2.6955310003467416
 ],
 "hasMultidimensions": false,
 "pixelSizeX": 3,
 "pixelSizeY": 3,
 "meanPixelSize": 0.9144000000000001,
 "datasetFormat": "SDR",
 "uncompressedSize": 49968865392,
 "blockWidth": 128,
 "blockHeight": 128,
 "compressionType": "LZ77",
 "bandNames": [
  "Band_1"
 ],
 "allowCopy": true,
 "allowAnalysis": true,
 "itemAccess": false,
 "inspectionCapabilities": "",
 "minPixelSize": 0,
 "maxPixelSize": 0,
 "copyrightText": "",
 "serviceDataType": "esriImageServiceDataTypeGeneric",
 "serviceSourceType": "esriImageServiceSourceTypeDataset",
 "objectIdField": "",
 "fields": [],
 "capabilities": "Image,Metadata,Mensuration",
 "defaultMosaicMethod": "Center",
 "allowedMosaicMethods": "",
 "sortField": "",
 "sortValue": null,
 "sortAscending": true,
 "mosaicOperator": "First",
 "defaultCompressionQuality": 75,
 "defaultResamplingMethod": "Bilinear",
 "maxImageHeight": 4100,
 "maxImageWidth": 15000,
 "allowRasterFunction": true,
 "rasterFunctionInfos": [
  {
   "name": "None",
   "description": "",
   "help": ""
  }
 ],
 "rasterTypeInfos": [
  {
   "name": "Raster Dataset",
   "description": "Supports all ArcGIS Raster Datasets",
   "help": ""
  }
 ],
 "mensurationCapabilities": "Basic",
 "hasHistograms": true,
 "hasColormap": false,
 "hasRasterAttributeTable": false,
 "minScale": 0,
 "maxScale": 0,
 "exportTilesAllowed": false,
 "supportsStatistics": false,
 "supportsAdvancedQueries": false,
 "editFieldsInfo": null,
 "ownershipBasedAccessControlForRasters": null,
 "allowComputeTiePoints": false,
 "useStandardizedQueries": true,
 "advancedQueryCapabilities": {
  "useStandardizedQueries": true,
  "supportsStatistics": false,
  "supportsOrderBy": false,
  "supportsDistinct": false,
  "supportsPagination": false
 },
 "spatialReference": {
  "wkid": 103094,
  "latestWkid": 6515
 }
}
