View In:
ArcGIS JavaScript
ArcGIS Online Map Viewer
ArcGIS Earth
Service Description: FBC/FBC_FlatheadCounty_ExistingSepticRiskClass
Name: FBC/FBC_FlatheadCounty_ExistingSepticRiskClass
Description:
Single Fused Map Cache: false
Extent:
XMin: 621113.6625233094
YMin: 1240860.0598601867
XMax: 1141586.2890056313
YMax: 1773885.8294673143
Spatial Reference: 102700
(102700)
LatestVCSWkid(0)
Initial Extent:
XMin: 621113.6625233094
YMin: 1240860.0598601867
XMax: 1141586.2890056313
YMax: 1773885.8294673143
Spatial Reference: 102700
(102700)
LatestVCSWkid(0)
Full Extent:
XMin: 621113.6625233094
YMin: 1240860.0598601867
XMax: 1141586.2890056313
YMax: 1773885.8294673143
Spatial Reference: 102700
(102700)
LatestVCSWkid(0)
Pixel Size X: 29.261405885327598
Pixel Size Y: 29.261405885327605
Band Count: 1
Pixel Type: S8
RasterFunction Infos: {"rasterFunctionInfos": [{
"name": "None",
"description": "",
"help": ""
}]}
Mensuration Capabilities: Basic
Inspection Capabilities:
Has Histograms: true
Has Colormap: false
Has Multi Dimensions : false
Rendering Rule:
Min Scale: 0
Max Scale: 0
Copyright Text:
Service Data Type: esriImageServiceDataTypeGeneric
Min Values: 0
Max Values: 4
Mean Values: 1.2825294355714396
Standard Deviation Values: 1.0841208204882398
Object ID Field:
Fields:
None
Default Mosaic Method: Center
Allowed Mosaic Methods:
SortField:
SortValue: null
Mosaic Operator: First
Default Compression Quality: 75
Default Resampling Method: Bilinear
Max Record Count: null
Max Image Height: 4100
Max Image Width: 15000
Max Download Image Count: null
Max Mosaic Image Count: null
Allow Raster Function: true
Allow Copy: true
Allow Analysis: true
Allow Compute TiePoints: false
Supports Statistics: false
Supports Advanced Queries: false
Use StandardizedQueries: true
Raster Type Infos:
Name: Raster Dataset
Description: Supports all ArcGIS Raster Datasets
Help:
Has Raster Attribute Table: true
Edit Fields Info: null
Ownership Based AccessControl For Rasters: null
Child Resources:
Info
Raster Attribute Table
Histograms
Statistics
Key Properties
Legend
Raster Function Infos
Supported Operations:
Export Image
Identify
Measure
Compute Histograms
Compute Statistics Histograms
Get Samples
Compute Class Statistics
Query Boundary
Compute Pixel Location
Compute Angles
Validate
Project