View In:
ArcGIS JavaScript
ArcGIS Online Map Viewer
ArcGIS Earth
Service Description: FBC/FBC_LakeCounty_SWClass
Name: FBC/FBC_LakeCounty_SWClass
Description:
Single Fused Map Cache: false
Extent:
XMin: -114.62497340733532
YMin: 47.12450514803516
XMax: -113.57835760916836
YMax: 48.065309886933925
Spatial Reference: 4269
(4269)
LatestVCSWkid(0)
Initial Extent:
XMin: -114.62497340733532
YMin: 47.12450514803516
XMax: -113.57835760916836
YMax: 48.065309886933925
Spatial Reference: 4269
(4269)
LatestVCSWkid(0)
Full Extent:
XMin: -114.62497340733532
YMin: 47.12450514803516
XMax: -113.57835760916836
YMax: 48.065309886933925
Spatial Reference: 4269
(4269)
LatestVCSWkid(0)
Pixel Size X: 2.947383267155601E-4
Pixel Size Y: 2.9473832672267E-4
Band Count: 1
Pixel Type: U4
RasterFunction Infos: {"rasterFunctionInfos": [{
"name": "None",
"description": "",
"help": ""
}]}
Mensuration Capabilities: Basic
Inspection Capabilities:
Has Histograms: true
Has Colormap: false
Has Multi Dimensions : false
Rendering Rule:
Min Scale: 0
Max Scale: 0
Copyright Text:
Service Data Type: esriImageServiceDataTypeGeneric
Min Values: 1
Max Values: 3
Mean Values: 1.2256384531007003
Standard Deviation Values: 0.49831502775349235
Object ID Field:
Fields:
None
Default Mosaic Method: Center
Allowed Mosaic Methods:
SortField:
SortValue: null
Mosaic Operator: First
Default Compression Quality: 75
Default Resampling Method: Bilinear
Max Record Count: null
Max Image Height: 4100
Max Image Width: 15000
Max Download Image Count: null
Max Mosaic Image Count: null
Allow Raster Function: true
Allow Copy: true
Allow Analysis: true
Allow Compute TiePoints: false
Supports Statistics: false
Supports Advanced Queries: false
Use StandardizedQueries: true
Raster Type Infos:
Name: Raster Dataset
Description: Supports all ArcGIS Raster Datasets
Help:
Has Raster Attribute Table: true
Edit Fields Info: null
Ownership Based AccessControl For Rasters: null
Child Resources:
Info
Raster Attribute Table
Histograms
Statistics
Key Properties
Legend
Raster Function Infos
Supported Operations:
Export Image
Identify
Measure
Compute Histograms
Compute Statistics Histograms
Get Samples
Compute Class Statistics
Query Boundary
Compute Pixel Location
Compute Angles
Validate
Project