View In:
ArcGIS JavaScript
ArcGIS Online Map Viewer
ArcGIS Earth
Service Description: FBC/FBC_LakeCounty_SlopeClass
Name: FBC/FBC_LakeCounty_SlopeClass
Description:
Single Fused Map Cache: false
Extent:
XMin: 217671.89984375238
YMin: 330452.4009375825
XMax: 292662.84000002395
YMax: 432200.92360213085
Spatial Reference: 32100
(32100)
LatestVCSWkid(0)
Initial Extent:
XMin: 217671.89984375238
YMin: 330452.4009375825
XMax: 292662.84000002395
YMax: 432200.92360213085
Spatial Reference: 32100
(32100)
LatestVCSWkid(0)
Full Extent:
XMin: 217671.89984375238
YMin: 330452.4009375825
XMax: 292662.84000002395
YMax: 432200.92360213085
Spatial Reference: 32100
(32100)
LatestVCSWkid(0)
Pixel Size X: 26.811204918223655
Pixel Size Y: 26.811204918194562
Band Count: 1
Pixel Type: U8
RasterFunction Infos: {"rasterFunctionInfos": [{
"name": "None",
"description": "",
"help": ""
}]}
Mensuration Capabilities: Basic
Inspection Capabilities:
Has Histograms: true
Has Colormap: false
Has Multi Dimensions : false
Rendering Rule:
Min Scale: 0
Max Scale: 0
Copyright Text:
Service Data Type: esriImageServiceDataTypeGeneric
Min Values: 1
Max Values: 3
Mean Values: 2.41505727303477
Standard Deviation Values: 0.7450303190006798
Object ID Field:
Fields:
None
Default Mosaic Method: Center
Allowed Mosaic Methods:
SortField:
SortValue: null
Mosaic Operator: First
Default Compression Quality: 75
Default Resampling Method: Bilinear
Max Record Count: null
Max Image Height: 4100
Max Image Width: 15000
Max Download Image Count: null
Max Mosaic Image Count: null
Allow Raster Function: true
Allow Copy: true
Allow Analysis: true
Allow Compute TiePoints: false
Supports Statistics: false
Supports Advanced Queries: false
Use StandardizedQueries: true
Raster Type Infos:
Name: Raster Dataset
Description: Supports all ArcGIS Raster Datasets
Help:
Has Raster Attribute Table: true
Edit Fields Info: null
Ownership Based AccessControl For Rasters: null
Child Resources:
Info
Raster Attribute Table
Histograms
Statistics
Key Properties
Legend
Raster Function Infos
Supported Operations:
Export Image
Identify
Measure
Compute Histograms
Compute Statistics Histograms
Get Samples
Compute Class Statistics
Query Boundary
Compute Pixel Location
Compute Angles
Validate
Project