View In:
ArcGIS JavaScript
ArcGIS Online Map Viewer
ArcGIS Earth
Service Description: UAV/TLMD_MaginnisHistoricMap
Name: UAV/TLMD_MaginnisHistoricMap
Description:
Single Fused Map Cache: false
Extent:
XMin: 640450.7476260255
YMin: 5226424.177124737
XMax: 642057.7111230977
YMax: 5228158.419138679
Spatial Reference: 32612
(32612)
LatestVCSWkid(0)
Initial Extent:
XMin: 640450.7476260255
YMin: 5226424.177124737
XMax: 642057.7111230977
YMax: 5228158.419138679
Spatial Reference: 32612
(32612)
LatestVCSWkid(0)
Full Extent:
XMin: 640450.7476260255
YMin: 5226424.177124737
XMax: 642057.7111230977
YMax: 5228158.419138679
Spatial Reference: 32612
(32612)
LatestVCSWkid(0)
Pixel Size X: 0.1482985877696775
Pixel Size Y: 0.227113935822741
Band Count: 3
Pixel Type: U8
RasterFunction Infos: {"rasterFunctionInfos": [{
"name": "None",
"description": "",
"help": ""
}]}
Mensuration Capabilities: Basic
Inspection Capabilities:
Has Histograms: true
Has Colormap: false
Has Multi Dimensions : false
Rendering Rule:
Min Scale: 0
Max Scale: 0
Copyright Text:
Service Data Type: esriImageServiceDataTypeRGB
Min Values: 0, 0, 0
Max Values: 255, 255, 255
Mean Values: 202.21095711970716, 196.88053022722664, 193.71006939202994
Standard Deviation Values: 27.125731575092125, 27.931812976276436, 28.760457139709967
Object ID Field:
Fields:
None
Default Mosaic Method: Center
Allowed Mosaic Methods:
SortField:
SortValue: null
Mosaic Operator: First
Default Compression Quality: 75
Default Resampling Method: Bilinear
Max Record Count: null
Max Image Height: 4100
Max Image Width: 15000
Max Download Image Count: null
Max Mosaic Image Count: null
Allow Raster Function: true
Allow Copy: true
Allow Analysis: true
Allow Compute TiePoints: false
Supports Statistics: false
Supports Advanced Queries: false
Use StandardizedQueries: true
Raster Type Infos:
Name: Raster Dataset
Description: Supports all ArcGIS Raster Datasets
Help:
Has Raster Attribute Table: false
Edit Fields Info: null
Ownership Based AccessControl For Rasters: null
Child Resources:
Info
Histograms
Statistics
Key Properties
Legend
Raster Function Infos
Supported Operations:
Export Image
Identify
Measure
Compute Histograms
Compute Statistics Histograms
Get Samples
Compute Class Statistics
Query Boundary
Compute Pixel Location
Compute Angles
Validate
Project