View In:
ArcGIS JavaScript
ArcGIS Online Map Viewer
ArcGIS Earth
Service Description: WRD/WOB_CarbonPMRDepthGrids
Name: WRD/WOB_CarbonPMRDepthGrids
Description:
Single Fused Map Cache: false
Extent:
XMin: 2014067.9999999895
YMin: 273341.9999999986
XMax: 2161151.9999999898
YMax: 511490.9999999986
Spatial Reference: 103094
(6515)
LatestVCSWkid(0)
Initial Extent:
XMin: 2014067.9999999895
YMin: 273341.9999999986
XMax: 2161151.9999999898
YMax: 511490.9999999986
Spatial Reference: 103094
(6515)
LatestVCSWkid(0)
Full Extent:
XMin: 2014067.9999999895
YMin: 273341.9999999986
XMax: 2161151.9999999898
YMax: 511490.9999999986
Spatial Reference: 103094
(6515)
LatestVCSWkid(0)
Pixel Size X: 3.000000000000005
Pixel Size Y: 3.0
Band Count: 1
Pixel Type: F32
RasterFunction Infos: {"rasterFunctionInfos": [{
"name": "None",
"description": "",
"help": ""
}]}
Mensuration Capabilities: Basic
Inspection Capabilities:
Has Histograms: true
Has Colormap: false
Has Multi Dimensions : false
Rendering Rule:
Min Scale: 0
Max Scale: 0
Copyright Text:
Service Data Type: esriImageServiceDataTypeGeneric
Min Values: 1.0172516340389848E-7
Max Values: 19.998735427856445
Mean Values: 2.2594630417409736
Standard Deviation Values: 1.989965809639844
Object ID Field:
Fields:
None
Default Mosaic Method: Center
Allowed Mosaic Methods:
SortField:
SortValue: null
Mosaic Operator: First
Default Compression Quality: 75
Default Resampling Method: Bilinear
Max Record Count: null
Max Image Height: 4100
Max Image Width: 15000
Max Download Image Count: null
Max Mosaic Image Count: null
Allow Raster Function: true
Allow Copy: true
Allow Analysis: true
Allow Compute TiePoints: false
Supports Statistics: false
Supports Advanced Queries: false
Use StandardizedQueries: true
Raster Type Infos:
Name: Raster Dataset
Description: Supports all ArcGIS Raster Datasets
Help:
Has Raster Attribute Table: false
Edit Fields Info: null
Ownership Based AccessControl For Rasters: null
Child Resources:
Info
Histograms
Statistics
Key Properties
Legend
Raster Function Infos
Supported Operations:
Export Image
Identify
Measure
Compute Histograms
Compute Statistics Histograms
Get Samples
Compute Class Statistics
Query Boundary
Compute Pixel Location
Compute Angles
Validate
Project