View In:
ArcGIS JavaScript
ArcGIS Online Map Viewer
ArcGIS Earth
Service Description: UAV/TLMD_20230802_SacoButteCulturalDEM
Name: UAV/TLMD_20230802_SacoButteCulturalDEM
Description:
Single Fused Map Cache: false
Extent:
XMin: 337632.5409747629
YMin: 5377045.966138891
XMax: 338653.84097476286
YMax: 5377723.496138891
Spatial Reference: 32613
(32613)
LatestVCSWkid(0)
Initial Extent:
XMin: 337632.5409747629
YMin: 5377045.966138891
XMax: 338653.84097476286
YMax: 5377723.496138891
Spatial Reference: 32613
(32613)
LatestVCSWkid(0)
Full Extent:
XMin: 337632.5409747629
YMin: 5377045.966138891
XMax: 338653.84097476286
YMax: 5377723.496138891
Spatial Reference: 32613
(32613)
LatestVCSWkid(0)
Pixel Size X: 0.0699999999999992
Pixel Size Y: 0.07000000000002694
Band Count: 1
Pixel Type: F32
RasterFunction Infos: {"rasterFunctionInfos": [{
"name": "None",
"description": "",
"help": ""
}]}
Mensuration Capabilities: Basic
Inspection Capabilities:
Has Histograms: true
Has Colormap: false
Has Multi Dimensions : false
Rendering Rule:
Min Scale: 0
Max Scale: 0
Copyright Text:
Service Data Type: esriImageServiceDataTypeGeneric
Min Values: 651.5078125
Max Values: 698.108642578125
Mean Values: 679.6351622479951
Standard Deviation Values: 11.229705878114558
Object ID Field:
Fields:
None
Default Mosaic Method: Center
Allowed Mosaic Methods:
SortField:
SortValue: null
Mosaic Operator: First
Default Compression Quality: 75
Default Resampling Method: Bilinear
Max Record Count: null
Max Image Height: 4100
Max Image Width: 15000
Max Download Image Count: null
Max Mosaic Image Count: null
Allow Raster Function: true
Allow Copy: true
Allow Analysis: true
Allow Compute TiePoints: false
Supports Statistics: false
Supports Advanced Queries: false
Use StandardizedQueries: true
Raster Type Infos:
Name: Raster Dataset
Description: Supports all ArcGIS Raster Datasets
Help:
Has Raster Attribute Table: false
Edit Fields Info: null
Ownership Based AccessControl For Rasters: null
Child Resources:
Info
Histograms
Statistics
Key Properties
Legend
Raster Function Infos
Supported Operations:
Export Image
Identify
Measure
Compute Histograms
Compute Statistics Histograms
Get Samples
Compute Class Statistics
Query Boundary
Compute Pixel Location
Compute Angles
Validate
Project