View In:
ArcGIS JavaScript
ArcGIS Online Map Viewer
ArcGIS Earth
Service Description: UAV/TLMD_20230802_SacoButteCulturalOrtho
Name: UAV/TLMD_20230802_SacoButteCulturalOrtho
Description:
Single Fused Map Cache: false
Extent:
XMin: 337629.29395
YMin: 5377037.678750001
XMax: 338659.99657
YMax: 5377724.852150001
Spatial Reference: 32613
(32613)
LatestVCSWkid(0)
Initial Extent:
XMin: 337629.29395
YMin: 5377037.678750001
XMax: 338659.99657
YMax: 5377724.852150001
Spatial Reference: 32613
(32613)
LatestVCSWkid(0)
Full Extent:
XMin: 337629.29395
YMin: 5377037.678750001
XMax: 338659.99657
YMax: 5377724.852150001
Spatial Reference: 32613
(32613)
LatestVCSWkid(0)
Pixel Size X: 0.028739999999999898
Pixel Size Y: 0.02873999999998903
Band Count: 4
Pixel Type: U8
RasterFunction Infos: {"rasterFunctionInfos": [{
"name": "None",
"description": "",
"help": ""
}]}
Mensuration Capabilities: Basic
Inspection Capabilities:
Has Histograms: true
Has Colormap: false
Has Multi Dimensions : false
Rendering Rule:
Min Scale: 0
Max Scale: 0
Copyright Text:
Service Data Type: esriImageServiceDataTypeGeneric
Min Values: 0, 0, 0, 0
Max Values: 255, 255, 255, 255
Mean Values: 116.45447650920921, 114.22924573035638, 110.61489471844537, 135.59358128795193
Standard Deviation Values: 58.69535259409276, 57.502793266541595, 56.22135209708938, 81.13579266839396
Object ID Field:
Fields:
None
Default Mosaic Method: Center
Allowed Mosaic Methods:
SortField:
SortValue: null
Mosaic Operator: First
Default Compression Quality: 75
Default Resampling Method: Bilinear
Max Record Count: null
Max Image Height: 4100
Max Image Width: 15000
Max Download Image Count: null
Max Mosaic Image Count: null
Allow Raster Function: true
Allow Copy: true
Allow Analysis: true
Allow Compute TiePoints: false
Supports Statistics: false
Supports Advanced Queries: false
Use StandardizedQueries: true
Raster Type Infos:
Name: Raster Dataset
Description: Supports all ArcGIS Raster Datasets
Help:
Has Raster Attribute Table: false
Edit Fields Info: null
Ownership Based AccessControl For Rasters: null
Child Resources:
Info
Histograms
Statistics
Key Properties
Legend
Raster Function Infos
Supported Operations:
Export Image
Identify
Measure
Compute Histograms
Compute Statistics Histograms
Get Samples
Compute Class Statistics
Query Boundary
Compute Pixel Location
Compute Angles
Validate
Project