View In:
ArcGIS JavaScript
ArcGIS Online Map Viewer
ArcGIS Earth
Service Description: UAV/TLMD_20230822_AvonChertOrtho
Name: UAV/TLMD_20230822_AvonChertOrtho
Description:
Single Fused Map Cache: false
Extent:
XMin: 366586.61582
YMin: 5164593.53321
XMax: 366900.77972
YMax: 5164942.34891
Spatial Reference: 32612
(32612)
LatestVCSWkid(0)
Initial Extent:
XMin: 366586.61582
YMin: 5164593.53321
XMax: 366900.77972
YMax: 5164942.34891
Spatial Reference: 32612
(32612)
LatestVCSWkid(0)
Full Extent:
XMin: 366586.61582
YMin: 5164593.53321
XMax: 366900.77972
YMax: 5164942.34891
Spatial Reference: 32612
(32612)
LatestVCSWkid(0)
Pixel Size X: 0.02069999999999901
Pixel Size Y: 0.02070000000000902
Band Count: 4
Pixel Type: U8
RasterFunction Infos: {"rasterFunctionInfos": [{
"name": "None",
"description": "",
"help": ""
}]}
Mensuration Capabilities: Basic
Inspection Capabilities:
Has Histograms: true
Has Colormap: false
Has Multi Dimensions : false
Rendering Rule:
Min Scale: 0
Max Scale: 0
Copyright Text:
Service Data Type: esriImageServiceDataTypeGeneric
Min Values: 0, 0, 0, 0
Max Values: 255, 255, 255, 255
Mean Values: 106.93079204992975, 104.57595004390794, 100.75120288278048, 126.73706535408049
Standard Deviation Values: 62.11899713494238, 60.61906895836395, 59.413318263314935, 85.13260735503887
Object ID Field:
Fields:
None
Default Mosaic Method: Center
Allowed Mosaic Methods:
SortField:
SortValue: null
Mosaic Operator: First
Default Compression Quality: 75
Default Resampling Method: Bilinear
Max Record Count: null
Max Image Height: 4100
Max Image Width: 15000
Max Download Image Count: null
Max Mosaic Image Count: null
Allow Raster Function: true
Allow Copy: true
Allow Analysis: true
Allow Compute TiePoints: false
Supports Statistics: false
Supports Advanced Queries: false
Use StandardizedQueries: true
Raster Type Infos:
Name: Raster Dataset
Description: Supports all ArcGIS Raster Datasets
Help:
Has Raster Attribute Table: false
Edit Fields Info: null
Ownership Based AccessControl For Rasters: null
Child Resources:
Info
Histograms
Statistics
Key Properties
Legend
Raster Function Infos
Supported Operations:
Export Image
Identify
Measure
Compute Histograms
Compute Statistics Histograms
Get Samples
Compute Class Statistics
Query Boundary
Compute Pixel Location
Compute Angles
Validate
Project