View In:
ArcGIS JavaScript
ArcGIS Online Map Viewer
ArcGIS Earth
Service Description: UAV/TLMD_20231116_LoganChertQuarryDEM
Name: UAV/TLMD_20231116_LoganChertQuarryDEM
Description:
Single Fused Map Cache: false
Extent:
XMin: 466589.0211700567
YMin: 5080841.594510742
XMax: 467605.17117005674
YMax: 5081532.044510743
Spatial Reference: 32612
(32612)
LatestVCSWkid(0)
Initial Extent:
XMin: 466589.0211700567
YMin: 5080841.594510742
XMax: 467605.17117005674
YMax: 5081532.044510743
Spatial Reference: 32612
(32612)
LatestVCSWkid(0)
Full Extent:
XMin: 466589.0211700567
YMin: 5080841.594510742
XMax: 467605.17117005674
YMax: 5081532.044510743
Spatial Reference: 32612
(32612)
LatestVCSWkid(0)
Pixel Size X: 0.05000000000000115
Pixel Size Y: 0.05000000000001349
Band Count: 1
Pixel Type: F32
RasterFunction Infos: {"rasterFunctionInfos": [{
"name": "None",
"description": "",
"help": ""
}]}
Mensuration Capabilities: Basic
Inspection Capabilities:
Has Histograms: true
Has Colormap: false
Has Multi Dimensions : false
Rendering Rule:
Min Scale: 0
Max Scale: 0
Copyright Text:
Service Data Type: esriImageServiceDataTypeGeneric
Min Values: 1238.002197265625
Max Values: 1297.0858154296875
Mean Values: 1271.0207750804097
Standard Deviation Values: 16.912290965327543
Object ID Field:
Fields:
None
Default Mosaic Method: Center
Allowed Mosaic Methods:
SortField:
SortValue: null
Mosaic Operator: First
Default Compression Quality: 75
Default Resampling Method: Bilinear
Max Record Count: null
Max Image Height: 4100
Max Image Width: 15000
Max Download Image Count: null
Max Mosaic Image Count: null
Allow Raster Function: true
Allow Copy: true
Allow Analysis: true
Allow Compute TiePoints: false
Supports Statistics: false
Supports Advanced Queries: false
Use StandardizedQueries: true
Raster Type Infos:
Name: Raster Dataset
Description: Supports all ArcGIS Raster Datasets
Help:
Has Raster Attribute Table: false
Edit Fields Info: null
Ownership Based AccessControl For Rasters: null
Child Resources:
Info
Histograms
Statistics
Key Properties
Legend
Raster Function Infos
Supported Operations:
Export Image
Identify
Measure
Compute Histograms
Compute Statistics Histograms
Get Samples
Compute Class Statistics
Query Boundary
Compute Pixel Location
Compute Angles
Validate
Project