View In:
ArcGIS JavaScript
ArcGIS Online Map Viewer
ArcGIS Earth
Service Description: UAV/TLMD_MaginnisCemeteryGround
Name: UAV/TLMD_MaginnisCemeteryGround
Description:
Single Fused Map Cache: false
Extent:
XMin: 640180.6960697668
YMin: 5227514.256129362
XMax: 640494.9460697668
YMax: 5227899.3061293615
Spatial Reference: 32612
(32612)
LatestVCSWkid(0)
Initial Extent:
XMin: 640180.6960697668
YMin: 5227514.256129362
XMax: 640494.9460697668
YMax: 5227899.3061293615
Spatial Reference: 32612
(32612)
LatestVCSWkid(0)
Full Extent:
XMin: 640180.6960697668
YMin: 5227514.256129362
XMax: 640494.9460697668
YMax: 5227899.3061293615
Spatial Reference: 32612
(32612)
LatestVCSWkid(0)
Pixel Size X: 0.15
Pixel Size Y: 0.14999999999992744
Band Count: 1
Pixel Type: F32
RasterFunction Infos: {"rasterFunctionInfos": [{
"name": "None",
"description": "",
"help": ""
}]}
Mensuration Capabilities: Basic
Inspection Capabilities:
Has Histograms: true
Has Colormap: false
Has Multi Dimensions : false
Rendering Rule:
Min Scale: 0
Max Scale: 0
Copyright Text:
Service Data Type: esriImageServiceDataTypeGeneric
Min Values: 1326.114501953125
Max Values: 1343.4873046875
Mean Values: 1336.0366224980066
Standard Deviation Values: 4.453044525691621
Object ID Field:
Fields:
None
Default Mosaic Method: Center
Allowed Mosaic Methods:
SortField:
SortValue: null
Mosaic Operator: First
Default Compression Quality: 75
Default Resampling Method: Bilinear
Max Record Count: null
Max Image Height: 4100
Max Image Width: 15000
Max Download Image Count: null
Max Mosaic Image Count: null
Allow Raster Function: true
Allow Copy: true
Allow Analysis: true
Allow Compute TiePoints: false
Supports Statistics: false
Supports Advanced Queries: false
Use StandardizedQueries: true
Raster Type Infos:
Name: Raster Dataset
Description: Supports all ArcGIS Raster Datasets
Help:
Has Raster Attribute Table: false
Edit Fields Info: null
Ownership Based AccessControl For Rasters: null
Child Resources:
Info
Histograms
Statistics
Key Properties
Legend
Raster Function Infos
Supported Operations:
Export Image
Identify
Measure
Compute Histograms
Compute Statistics Histograms
Get Samples
Compute Class Statistics
Query Boundary
Compute Pixel Location
Compute Angles
Validate
Project