View In:
ArcGIS JavaScript
ArcGIS Online Map Viewer
ArcGIS Earth
Service Description: UAV/TLMD_MaginnisFortGround
Name: UAV/TLMD_MaginnisFortGround
Description:
Single Fused Map Cache: false
Extent:
XMin: 640845.0748223203
YMin: 5226608.221244724
XMax: 641915.2348223203
YMax: 5227739.841244724
Spatial Reference: 32612
(32612)
LatestVCSWkid(0)
Initial Extent:
XMin: 640845.0748223203
YMin: 5226608.221244724
XMax: 641915.2348223203
YMax: 5227739.841244724
Spatial Reference: 32612
(32612)
LatestVCSWkid(0)
Full Extent:
XMin: 640845.0748223203
YMin: 5226608.221244724
XMax: 641915.2348223203
YMax: 5227739.841244724
Spatial Reference: 32612
(32612)
LatestVCSWkid(0)
Pixel Size X: 0.14000000000000426
Pixel Size Y: 0.14000000000001384
Band Count: 1
Pixel Type: F32
RasterFunction Infos: {"rasterFunctionInfos": [{
"name": "None",
"description": "",
"help": ""
}]}
Mensuration Capabilities: Basic
Inspection Capabilities:
Has Histograms: true
Has Colormap: false
Has Multi Dimensions : false
Rendering Rule:
Min Scale: 0
Max Scale: 0
Copyright Text:
Service Data Type: esriImageServiceDataTypeGeneric
Min Values: 1276.46923828125
Max Values: 1318.924560546875
Mean Values: 1298.556008269031
Standard Deviation Values: 8.92098184679974
Object ID Field:
Fields:
None
Default Mosaic Method: Center
Allowed Mosaic Methods:
SortField:
SortValue: null
Mosaic Operator: First
Default Compression Quality: 75
Default Resampling Method: Bilinear
Max Record Count: null
Max Image Height: 4100
Max Image Width: 15000
Max Download Image Count: null
Max Mosaic Image Count: null
Allow Raster Function: true
Allow Copy: true
Allow Analysis: true
Allow Compute TiePoints: false
Supports Statistics: false
Supports Advanced Queries: false
Use StandardizedQueries: true
Raster Type Infos:
Name: Raster Dataset
Description: Supports all ArcGIS Raster Datasets
Help:
Has Raster Attribute Table: false
Edit Fields Info: null
Ownership Based AccessControl For Rasters: null
Child Resources:
Info
Histograms
Statistics
Key Properties
Legend
Raster Function Infos
Supported Operations:
Export Image
Identify
Measure
Compute Histograms
Compute Statistics Histograms
Get Samples
Compute Class Statistics
Query Boundary
Compute Pixel Location
Compute Angles
Validate
Project