View In:
ArcGIS JavaScript
ArcGIS Online Map Viewer
ArcGIS Earth
Service Description: WRD/WOB_DepthGrid100yrTetonCounty
Name: WRD/WOB_DepthGrid100yrTetonCounty
Description:
Single Fused Map Cache: false
Extent:
XMin: 1128390.7945169366
YMin: 1178472.2907442155
XMax: 1509336.3040729226
YMax: 1387653.374106021
Spatial Reference: 103094
(6515)
LatestVCSWkid(0)
Initial Extent:
XMin: 1128390.7945169366
YMin: 1178472.2907442155
XMax: 1509336.3040729226
YMax: 1387653.374106021
Spatial Reference: 103094
(6515)
LatestVCSWkid(0)
Full Extent:
XMin: 1128390.7945169366
YMin: 1178472.2907442155
XMax: 1509336.3040729226
YMax: 1387653.374106021
Spatial Reference: 103094
(6515)
LatestVCSWkid(0)
Pixel Size X: 0.9999908375031459
Pixel Size Y: 0.9999908375049856
Band Count: 1
Pixel Type: F32
RasterFunction Infos: {"rasterFunctionInfos": [{
"name": "None",
"description": "",
"help": ""
}]}
Mensuration Capabilities: Basic
Inspection Capabilities:
Has Histograms: true
Has Colormap: false
Has Multi Dimensions : false
Rendering Rule:
Min Scale: 0
Max Scale: 0
Copyright Text:
Service Data Type: esriImageServiceDataTypeGeneric
Min Values: 9.765625E-4
Max Values: 180.02001953125
Mean Values: 4.7378781087477355
Standard Deviation Values: 12.608741173080784
Object ID Field:
Fields:
None
Default Mosaic Method: Center
Allowed Mosaic Methods:
SortField:
SortValue: null
Mosaic Operator: First
Default Compression Quality: 75
Default Resampling Method: Bilinear
Max Record Count: null
Max Image Height: 4100
Max Image Width: 15000
Max Download Image Count: null
Max Mosaic Image Count: null
Allow Raster Function: true
Allow Copy: true
Allow Analysis: true
Allow Compute TiePoints: false
Supports Statistics: false
Supports Advanced Queries: false
Use StandardizedQueries: true
Raster Type Infos:
Name: Raster Dataset
Description: Supports all ArcGIS Raster Datasets
Help:
Has Raster Attribute Table: false
Edit Fields Info: null
Ownership Based AccessControl For Rasters: null
Child Resources:
Info
Histograms
Statistics
Key Properties
Legend
Raster Function Infos
Supported Operations:
Export Image
Identify
Measure
Compute Histograms
Compute Statistics Histograms
Get Samples
Compute Class Statistics
Query Boundary
Compute Pixel Location
Compute Angles
Validate
Project