View In:
ArcGIS JavaScript
ArcGIS Online Map Viewer
ArcGIS Earth
Service Description: WRD/WOB_MadisonJeffersonDepthGrids
Name: WRD/WOB_MadisonJeffersonDepthGrids
Description:
Single Fused Map Cache: false
Extent:
XMin: 1197098.3119912497
YMin: 210207.1333809261
XMax: 1480533.5011252295
YMax: 627078.9759505523
Spatial Reference: 102700
(102700)
LatestVCSWkid(0)
Initial Extent:
XMin: 1197098.3119912497
YMin: 210207.1333809261
XMax: 1480533.5011252295
YMax: 627078.9759505523
Spatial Reference: 102700
(102700)
LatestVCSWkid(0)
Full Extent:
XMin: 1197098.3119912497
YMin: 210207.1333809261
XMax: 1480533.5011252295
YMax: 627078.9759505523
Spatial Reference: 102700
(102700)
LatestVCSWkid(0)
Pixel Size X: 2.998711255239474
Pixel Size Y: 2.9987112552394755
Band Count: 1
Pixel Type: F32
RasterFunction Infos: {"rasterFunctionInfos": [{
"name": "None",
"description": "",
"help": ""
}]}
Mensuration Capabilities: Basic
Inspection Capabilities:
Has Histograms: true
Has Colormap: false
Has Multi Dimensions : false
Rendering Rule:
Min Scale: 0
Max Scale: 0
Copyright Text:
Service Data Type: esriImageServiceDataTypeGeneric
Min Values: 0
Max Values: 24.9462890625
Mean Values: 2.35735862309185
Standard Deviation Values: 2.2480622710258773
Object ID Field:
Fields:
None
Default Mosaic Method: Center
Allowed Mosaic Methods:
SortField:
SortValue: null
Mosaic Operator: First
Default Compression Quality: 75
Default Resampling Method: Bilinear
Max Record Count: null
Max Image Height: 4100
Max Image Width: 15000
Max Download Image Count: null
Max Mosaic Image Count: null
Allow Raster Function: true
Allow Copy: true
Allow Analysis: true
Allow Compute TiePoints: false
Supports Statistics: false
Supports Advanced Queries: false
Use StandardizedQueries: true
Raster Type Infos:
Name: Raster Dataset
Description: Supports all ArcGIS Raster Datasets
Help:
Has Raster Attribute Table: false
Edit Fields Info: null
Ownership Based AccessControl For Rasters: null
Child Resources:
Info
Histograms
Statistics
Key Properties
Legend
Raster Function Infos
Supported Operations:
Export Image
Identify
Measure
Compute Histograms
Compute Statistics Histograms
Get Samples
Compute Class Statistics
Query Boundary
Compute Pixel Location
Compute Angles
Validate
Project